BEGIN:VCALENDAR
VERSION:2.0
PRODID:-//Bakken met Niels - ECPv6.15.20//NONSGML v1.0//EN
CALSCALE:GREGORIAN
METHOD:PUBLISH
X-WR-CALNAME:Bakken met Niels
X-ORIGINAL-URL:https://www.bakkenmetniels.nl
X-WR-CALDESC:Evenementen voor Bakken met Niels
REFRESH-INTERVAL;VALUE=DURATION:PT1H
X-Robots-Tag:noindex
X-PUBLISHED-TTL:PT1H
BEGIN:VTIMEZONE
TZID:Europe/Amsterdam
BEGIN:DAYLIGHT
TZOFFSETFROM:+0100
TZOFFSETTO:+0200
TZNAME:CEST
DTSTART:20150329T010000
END:DAYLIGHT
BEGIN:STANDARD
TZOFFSETFROM:+0200
TZOFFSETTO:+0100
TZNAME:CET
DTSTART:20151025T010000
END:STANDARD
BEGIN:DAYLIGHT
TZOFFSETFROM:+0100
TZOFFSETTO:+0200
TZNAME:CEST
DTSTART:20160327T010000
END:DAYLIGHT
BEGIN:STANDARD
TZOFFSETFROM:+0200
TZOFFSETTO:+0100
TZNAME:CET
DTSTART:20161030T010000
END:STANDARD
BEGIN:DAYLIGHT
TZOFFSETFROM:+0100
TZOFFSETTO:+0200
TZNAME:CEST
DTSTART:20170326T010000
END:DAYLIGHT
BEGIN:STANDARD
TZOFFSETFROM:+0200
TZOFFSETTO:+0100
TZNAME:CET
DTSTART:20171029T010000
END:STANDARD
BEGIN:DAYLIGHT
TZOFFSETFROM:+0100
TZOFFSETTO:+0200
TZNAME:CEST
DTSTART:20180325T010000
END:DAYLIGHT
BEGIN:STANDARD
TZOFFSETFROM:+0200
TZOFFSETTO:+0100
TZNAME:CET
DTSTART:20181028T010000
END:STANDARD
BEGIN:DAYLIGHT
TZOFFSETFROM:+0100
TZOFFSETTO:+0200
TZNAME:CEST
DTSTART:20190331T010000
END:DAYLIGHT
BEGIN:STANDARD
TZOFFSETFROM:+0200
TZOFFSETTO:+0100
TZNAME:CET
DTSTART:20191027T010000
END:STANDARD
BEGIN:DAYLIGHT
TZOFFSETFROM:+0100
TZOFFSETTO:+0200
TZNAME:CEST
DTSTART:20200329T010000
END:DAYLIGHT
BEGIN:STANDARD
TZOFFSETFROM:+0200
TZOFFSETTO:+0100
TZNAME:CET
DTSTART:20201025T010000
END:STANDARD
END:VTIMEZONE
BEGIN:VEVENT
DTSTART;TZID=Europe/Amsterdam:20190412T100000
DTEND;TZID=Europe/Amsterdam:20190414T170000
DTSTAMP:20260421T145437
CREATED:20190318T101827Z
LAST-MODIFIED:20190318T103609Z
UID:6260-1555063200-1555261200@www.bakkenmetniels.nl
SUMMARY:Bakken met Niels op het Festival der Zoete Verleidingen
DESCRIPTION:Naast het jaarlijkse festival der Zoete Verleidingen in augustus\, is er nu ook een heuse voorjaarseditie! En uiteraard mag Bakker Niels daar niet bij ontbreken. \nBen jij een taartenbakker\, dan ga je naar Festival Zoet om inspiratie op te doen bij bakdemo’s door bekende en minder bekende (maar wel lekkere) koks en patissiers. Bakspullen\, bakboeken en ingrediënten vind je er ook.\nBen jij geen bakker\, maar wel een fervent taarteneter? Ook dan ben je hier op de juiste plek. Er zijn volop stands met tongstrelende taartjes. Barista’s maken de lekkerste koffies\, allerlei theesoorten\, maar ook sapjes\, drankjes\, jams enzo.\nMaar ben je gewoon dol op shoppen en wil je een leuk dagje uit beleven? Er zijn ook heel veel stands met originele hebbedingen\, serviesgoed\, woonspullen\, brocante\, mooie sieraden. Alles door ons persoonlijk geselecteerd en goedgekeurd. En vergeet vooral niet de gezellige terrasjes en fijne muziek!
URL:https://www.bakkenmetniels.nl/agenda/bakken-met-niels-op-het-festival-der-zoete-verleidingen-2/
LOCATION:Festival der Zoete Verleidingen – Almere\, Kemphaanpad 4\, Almere\, 1358 AC
CATEGORIES:Festival
END:VEVENT
BEGIN:VEVENT
DTSTART;TZID=Europe/Amsterdam:20180901T100000
DTEND;TZID=Europe/Amsterdam:20180901T170000
DTSTAMP:20260421T145437
CREATED:20180824T185925Z
LAST-MODIFIED:20180824T185925Z
UID:5433-1535796000-1535821200@www.bakkenmetniels.nl
SUMMARY:Stadshagenfestival
DESCRIPTION:Bakken met Niels bakt weer een thuiswedstrijd op het Stadshagen Festival 2018!
URL:https://www.bakkenmetniels.nl/agenda/stadshagenfestival-2/
LOCATION:Stadshagenfestival\, Twistvlietpark\, Zwolle
CATEGORIES:Festival
END:VEVENT
BEGIN:VEVENT
DTSTART;TZID=Europe/Amsterdam:20161210T080000
DTEND;TZID=Europe/Amsterdam:20170205T170000
DTSTAMP:20260421T145437
CREATED:20161117T161259Z
LAST-MODIFIED:20161117T161259Z
UID:2620-1481356800-1486314000@www.bakkenmetniels.nl
SUMMARY:IJsbeeldenfestival Amsterdam Zuidoost
DESCRIPTION:Van half december tot en met begin februari staat Bakken met Niels op het IJsbeeldenfestival in Amstersdam Zuidoost.
URL:https://www.bakkenmetniels.nl/agenda/ijsbeeldenfestival-amsterdam-zuidoost/
LOCATION:Arena Boulevard\, Amsterdam\, Nederland
CATEGORIES:Festival
ATTACH;FMTTYPE=image/jpeg:https://www.bakkenmetniels.nl/wp-content/uploads/2016/11/Collage.jpg
END:VEVENT
BEGIN:VEVENT
DTSTART;TZID=Europe/Amsterdam:20160827T090000
DTEND;TZID=Europe/Amsterdam:20160827T160000
DTSTAMP:20260421T145437
CREATED:20160419T132340Z
LAST-MODIFIED:20160419T132340Z
UID:2153-1472288400-1472313600@www.bakkenmetniels.nl
SUMMARY:Stadshagenfestival
DESCRIPTION:Het Stadshagenfestival is uitgegroeid tot één van de grootste buurtevenementen van Nederland. Gedurende de hele dag bezoeken vele Stadshagenaren (of Stadshagenezen) het feestterrein aan het Twistvlietpark en in het Winkelcentrum. Een festival dat door en voor Stadshagenaren wordt georganiseerd. Elk jaar wordt het festival op de laatste zaterdag voor de aanvang van de scholen georganiseerd en is het verworden tot een feest waar buren en kennissen uit de wijk elkaar weer ongedwongen ontmoeten na een lange zomer.
URL:https://www.bakkenmetniels.nl/agenda/stadshagenfestival/
LOCATION:Twistvlietpark\, Zwolle
CATEGORIES:Festival
ATTACH;FMTTYPE=image/jpeg:https://www.bakkenmetniels.nl/wp-content/uploads/2016/04/Stadshagen-Festival_32328.jpg
END:VEVENT
BEGIN:VEVENT
DTSTART;TZID=Europe/Amsterdam:20160617T120000
DTEND;TZID=Europe/Amsterdam:20160619T180000
DTSTAMP:20260421T145437
CREATED:20160419T131929Z
LAST-MODIFIED:20160419T132031Z
UID:2150-1466164800-1466359200@www.bakkenmetniels.nl
SUMMARY:High Tea Festival
DESCRIPTION:Drie dagen proeven\, beleven en genieten!\n\n\n\n\nVoor thuisbakkers\, fijnproevers en zoetekauwen. \nVan vrijdag 17 tot en met zondag 19 juni 2016 organiseert High Tea Wereld in samenwerking met de Hotelschool Maastricht een exclusief High Tea Festival op en rondom Château Bethlehem in Maastricht. \nLimburg laat zien wat zij in huis heeft tijdens het grootste high tea evenement van Nederland en de Euregio.
URL:https://www.bakkenmetniels.nl/agenda/httpwww-highteafestival-nl/
LOCATION:Château Bethlehem\, Maastricht.
CATEGORIES:Festival
ATTACH;FMTTYPE=image/jpeg:https://www.bakkenmetniels.nl/wp-content/uploads/2016/04/6b499d_23c451f100134ccbb43586c609ffd208.jpg
END:VEVENT
BEGIN:VEVENT
DTSTART;TZID=Europe/Amsterdam:20160427T090000
DTEND;TZID=Europe/Amsterdam:20160427T160000
DTSTAMP:20260421T145437
CREATED:20160419T130426Z
LAST-MODIFIED:20160419T132454Z
UID:2141-1461747600-1461772800@www.bakkenmetniels.nl
SUMMARY:Twistvlietpark | Koningsdag
DESCRIPTION:In het Twistvlietpark worden verschillende evenementen georganiseerd rondom Koningsdag. Ook zal er zoals ieder jaar een kleedjesmarkt zijn rond het Winkelcentrum Stadshagen en het Twistvlietpark. Het programma wordt nader bekend gemaakt.
URL:https://www.bakkenmetniels.nl/agenda/koningsdag/
LOCATION:Twistvlietpark\, Zwolle
CATEGORIES:Festival
ATTACH;FMTTYPE=image/jpeg:https://www.bakkenmetniels.nl/wp-content/uploads/2015/09/niels-op-de-markt.jpg
END:VEVENT
END:VCALENDAR