BEGIN:VCALENDAR
VERSION:2.0
PRODID:-//Bakken met Niels - ECPv6.15.20//NONSGML v1.0//EN
CALSCALE:GREGORIAN
METHOD:PUBLISH
X-WR-CALNAME:Bakken met Niels
X-ORIGINAL-URL:https://www.bakkenmetniels.nl
X-WR-CALDESC:Evenementen voor Bakken met Niels
REFRESH-INTERVAL;VALUE=DURATION:PT1H
X-Robots-Tag:noindex
X-PUBLISHED-TTL:PT1H
BEGIN:VTIMEZONE
TZID:Europe/Amsterdam
BEGIN:DAYLIGHT
TZOFFSETFROM:+0100
TZOFFSETTO:+0200
TZNAME:CEST
DTSTART:20120325T010000
END:DAYLIGHT
BEGIN:STANDARD
TZOFFSETFROM:+0200
TZOFFSETTO:+0100
TZNAME:CET
DTSTART:20121028T010000
END:STANDARD
BEGIN:DAYLIGHT
TZOFFSETFROM:+0100
TZOFFSETTO:+0200
TZNAME:CEST
DTSTART:20130331T010000
END:DAYLIGHT
BEGIN:STANDARD
TZOFFSETFROM:+0200
TZOFFSETTO:+0100
TZNAME:CET
DTSTART:20131027T010000
END:STANDARD
BEGIN:DAYLIGHT
TZOFFSETFROM:+0100
TZOFFSETTO:+0200
TZNAME:CEST
DTSTART:20140330T010000
END:DAYLIGHT
BEGIN:STANDARD
TZOFFSETFROM:+0200
TZOFFSETTO:+0100
TZNAME:CET
DTSTART:20141026T010000
END:STANDARD
BEGIN:DAYLIGHT
TZOFFSETFROM:+0100
TZOFFSETTO:+0200
TZNAME:CEST
DTSTART:20150329T010000
END:DAYLIGHT
BEGIN:STANDARD
TZOFFSETFROM:+0200
TZOFFSETTO:+0100
TZNAME:CET
DTSTART:20151025T010000
END:STANDARD
BEGIN:DAYLIGHT
TZOFFSETFROM:+0100
TZOFFSETTO:+0200
TZNAME:CEST
DTSTART:20160327T010000
END:DAYLIGHT
BEGIN:STANDARD
TZOFFSETFROM:+0200
TZOFFSETTO:+0100
TZNAME:CET
DTSTART:20161030T010000
END:STANDARD
BEGIN:DAYLIGHT
TZOFFSETFROM:+0100
TZOFFSETTO:+0200
TZNAME:CEST
DTSTART:20170326T010000
END:DAYLIGHT
BEGIN:STANDARD
TZOFFSETFROM:+0200
TZOFFSETTO:+0100
TZNAME:CET
DTSTART:20171029T010000
END:STANDARD
BEGIN:DAYLIGHT
TZOFFSETFROM:+0100
TZOFFSETTO:+0200
TZNAME:CEST
DTSTART:20180325T010000
END:DAYLIGHT
BEGIN:STANDARD
TZOFFSETFROM:+0200
TZOFFSETTO:+0100
TZNAME:CET
DTSTART:20181028T010000
END:STANDARD
BEGIN:DAYLIGHT
TZOFFSETFROM:+0100
TZOFFSETTO:+0200
TZNAME:CEST
DTSTART:20190331T010000
END:DAYLIGHT
BEGIN:STANDARD
TZOFFSETFROM:+0200
TZOFFSETTO:+0100
TZNAME:CET
DTSTART:20191027T010000
END:STANDARD
END:VTIMEZONE
BEGIN:VEVENT
DTSTART;TZID=Europe/Amsterdam:20181113T190000
DTEND;TZID=Europe/Amsterdam:20181113T220000
DTSTAMP:20260422T001554
CREATED:20180824T203123Z
LAST-MODIFIED:20180824T203123Z
UID:5485-1542135600-1542146400@www.bakkenmetniels.nl
SUMMARY:Bakles bij Welkoop Staphorst
DESCRIPTION:Niels strijkt weer neer bij de Welkoop in Staphorst\, om u de fijne kneepjes van het vak te leren. \nInschrijving en info via staphorst@welkoop.com en tel: 0522-461218
URL:https://www.bakkenmetniels.nl/agenda/bakles-bij-welkoop-staphorst-2/
LOCATION:Welkoop Staphorst\, Oude Rijksweg 138\, Staphorst\, 7951 DN
CATEGORIES:Winkel/Bedrijf
END:VEVENT
BEGIN:VEVENT
DTSTART;TZID=Europe/Amsterdam:20181110T100000
DTEND;TZID=Europe/Amsterdam:20181110T160000
DTSTAMP:20260422T001554
CREATED:20180824T202816Z
LAST-MODIFIED:20180824T202816Z
UID:5480-1541844000-1541865600@www.bakkenmetniels.nl
SUMMARY:Open dag boekhandel De Echo
DESCRIPTION:Niels bakt ze weer bruin op de open dag bij boekhandel De Echo in Huizen.
URL:https://www.bakkenmetniels.nl/agenda/open-dag-boekhandel-de-echo/
LOCATION:Boekhandel De Echo\, Kerkstraat 50\, Huizen\, 1271 RM
CATEGORIES:Opendag,Winkel/Bedrijf
END:VEVENT
BEGIN:VEVENT
DTSTART;TZID=Europe/Amsterdam:20181103T100000
DTEND;TZID=Europe/Amsterdam:20181103T170000
DTSTAMP:20260422T001554
CREATED:20180824T202004Z
LAST-MODIFIED:20180824T202004Z
UID:5476-1541239200-1541264400@www.bakkenmetniels.nl
SUMMARY:Doorlopende demo met Soezie producten
DESCRIPTION:Bakker Niels is de hele dag aanwezig voor een doorlopende bak demonstratie met Soezie producten.
URL:https://www.bakkenmetniels.nl/agenda/doorlopende-demo-met-soezie-producten/
LOCATION:Welkoop Zevenhuizen\, Noordelijke Dwarsweg 96\, Zevenhuizen\, 2761 GD
CATEGORIES:Winkel/Bedrijf
END:VEVENT
BEGIN:VEVENT
DTSTART;TZID=Europe/Amsterdam:20181009T190000
DTEND;TZID=Europe/Amsterdam:20181009T220000
DTSTAMP:20260422T001554
CREATED:20180824T194843Z
LAST-MODIFIED:20180824T194843Z
UID:5460-1539111600-1539122400@www.bakkenmetniels.nl
SUMMARY:Bakles bij Welkoop Staphorst
DESCRIPTION:Niels leert u de fijne kneepjes van vak bij deze gezellige bakles. \nInschrijving en info via staphorst@welkoop.com en tel: 0522-461218
URL:https://www.bakkenmetniels.nl/agenda/bakles-bij-welkoop-staphorst/
LOCATION:Welkoop Staphorst\, Oude Rijksweg 138\, Staphorst\, 7951 DN
CATEGORIES:Winkel/Bedrijf
END:VEVENT
BEGIN:VEVENT
DTSTART;TZID=Europe/Amsterdam:20180402T100000
DTEND;TZID=Europe/Amsterdam:20180402T160000
DTSTAMP:20260422T001554
CREATED:20180122T125104Z
LAST-MODIFIED:20180122T125104Z
UID:4339-1522663200-1522684800@www.bakkenmetniels.nl
SUMMARY:Doorlopende demo en proeverij Sint Maarten
DESCRIPTION:
URL:https://www.bakkenmetniels.nl/agenda/doorlopende-demo-en-proeverij-sint-maarten/
LOCATION:Welkoop ’t Rijpje\, Rijperweg 48A\, Sint Maarten\, 1744 HL\, Nederland
CATEGORIES:Winkel/Bedrijf
END:VEVENT
BEGIN:VEVENT
DTSTART;TZID=Europe/Amsterdam:20180331T100000
DTEND;TZID=Europe/Amsterdam:20180331T160000
DTSTAMP:20260422T001554
CREATED:20180122T124425Z
LAST-MODIFIED:20180123T083529Z
UID:4336-1522490400-1522512000@www.bakkenmetniels.nl
SUMMARY:Doorlopende demo en proeverij Weert
DESCRIPTION:
URL:https://www.bakkenmetniels.nl/agenda/doorlopende-demo-en-proeverij-weert/
LOCATION:Isidorus\, Mastenbroekweg 2\, Weert\, 6006 PT\, Nederland
CATEGORIES:Winkel/Bedrijf
END:VEVENT
BEGIN:VEVENT
DTSTART;TZID=Europe/Amsterdam:20180324T100000
DTEND;TZID=Europe/Amsterdam:20180324T160000
DTSTAMP:20260422T001554
CREATED:20180122T124034Z
LAST-MODIFIED:20180122T124448Z
UID:4334-1521885600-1521907200@www.bakkenmetniels.nl
SUMMARY:Doorlopende demo en proeverij Staphorst
DESCRIPTION:
URL:https://www.bakkenmetniels.nl/agenda/doorlopende-demo-en-proeverij-staphorst/
LOCATION:Welkoop Staphorst\, Oude Rijksweg 138\, Staphorst\, 7951 DN
CATEGORIES:Winkel/Bedrijf
END:VEVENT
BEGIN:VEVENT
DTSTART;TZID=Europe/Amsterdam:20180303T100000
DTEND;TZID=Europe/Amsterdam:20180303T160000
DTSTAMP:20260422T001554
CREATED:20180207T081059Z
LAST-MODIFIED:20180207T081059Z
UID:4424-1520071200-1520092800@www.bakkenmetniels.nl
SUMMARY:Stroopwafels bij Jumbo Nagelmaeker
DESCRIPTION:Niels speelt weer een thuiswedstrijd en bakt de heerlijkste roomboter karamel stroopwafels.
URL:https://www.bakkenmetniels.nl/agenda/stroopwafels-jumbo-nagelmaeker/
LOCATION:Jumbo Nagelmaeker\, Wade 102\, Zwolle\, 8043 LS\, Nederland
CATEGORIES:Winkel/Bedrijf
END:VEVENT
BEGIN:VEVENT
DTSTART;VALUE=DATE:20180224
DTEND;VALUE=DATE:20180225
DTSTAMP:20260422T001554
CREATED:20180207T121152Z
LAST-MODIFIED:20180207T121152Z
UID:4428-1519430400-1519516799@www.bakkenmetniels.nl
SUMMARY:Stroopwafels in Oud-Beijerland
DESCRIPTION:Zaterdag 24 februari 2018 bakt bakker Niels de gehele dag verse stroopwafels bij Duifhuizen Boeken en Muziek!!
URL:https://www.bakkenmetniels.nl/agenda/stroopwafels-oud-beijerland/
LOCATION:Duifhuizen Boeken en Muziek\, Boomgaardstraat 1\, Oud-Beijerlanden\, 3262 SB\, Nederland
CATEGORIES:Winkel/Bedrijf
END:VEVENT
BEGIN:VEVENT
DTSTART;TZID=Europe/Amsterdam:20180221T190000
DTEND;TZID=Europe/Amsterdam:20180221T220000
DTSTAMP:20260422T001554
CREATED:20180207T080526Z
LAST-MODIFIED:20180207T080526Z
UID:4421-1519239600-1519250400@www.bakkenmetniels.nl
SUMMARY:Bakles - Bakdemonstratie Wekerom
DESCRIPTION:Bakker Niels bakt ze weer bruin en laat zien hoe u ze ook bruin kunt bakken! \nInfo en opgave via de winkel.
URL:https://www.bakkenmetniels.nl/agenda/bakles-bakdemonstratie-wekerom/
LOCATION:Welkoop Wekerom\, Edeseweg 103\, Wekerom\, 6733 AD\, Nederland
CATEGORIES:Winkel/Bedrijf
END:VEVENT
BEGIN:VEVENT
DTSTART;TZID=Europe/Amsterdam:20180210T100000
DTEND;TZID=Europe/Amsterdam:20180210T160000
DTSTAMP:20260422T001554
CREATED:20180207T122155Z
LAST-MODIFIED:20180207T122357Z
UID:4436-1518256800-1518278400@www.bakkenmetniels.nl
SUMMARY:Doorlopende demo en proeverij Wezep
DESCRIPTION:Zaterdag 10 februari verzorgt bakker Niels bij Welkoop Wezep een culinaire proeverij – demo met roomboter appelrondo’s en echt Fries suikerbrood.
URL:https://www.bakkenmetniels.nl/agenda/doorlopende-demo-en-proeverij-wezep-2/
LOCATION:Welkoop Wezep\, Stationsweg 19\, Wezep\, 8091 AA\, Nederland
CATEGORIES:Winkel/Bedrijf
END:VEVENT
BEGIN:VEVENT
DTSTART;TZID=Europe/Amsterdam:20180203T100000
DTEND;TZID=Europe/Amsterdam:20180203T160000
DTSTAMP:20260422T001554
CREATED:20180122T123308Z
LAST-MODIFIED:20180122T123428Z
UID:4326-1517652000-1517673600@www.bakkenmetniels.nl
SUMMARY:Doorlopende demo en proeverij Tilburg
DESCRIPTION:
URL:https://www.bakkenmetniels.nl/agenda/doorlopende-demo-en-proeverij/
LOCATION:Pets Place – Boerenbond Tilburg Aabe\, Aabestraat 22-24\, Tilburg\, 5021 AV\, Nederland
CATEGORIES:Winkel/Bedrijf
END:VEVENT
BEGIN:VEVENT
DTSTART;TZID=Europe/Amsterdam:20170909T100000
DTEND;TZID=Europe/Amsterdam:20170909T160000
DTSTAMP:20260422T001554
CREATED:20170712T093831Z
LAST-MODIFIED:20170718T132408Z
UID:3394-1504951200-1504972800@www.bakkenmetniels.nl
SUMMARY:Appels plukken met Niels in Fijnaart
DESCRIPTION:Het is weer tijd voor de appeloogst! Tijd voor appelrondo’s ! Zaterdag 9 september bakt bakker Niels ze weer ovenvers bij de familie Roks in Fijnaart.
URL:https://www.bakkenmetniels.nl/agenda/appels-plukken-niels-fijnaart/
CATEGORIES:Winkel/Bedrijf
END:VEVENT
BEGIN:VEVENT
DTSTART;TZID=Europe/Amsterdam:20160604T100000
DTEND;TZID=Europe/Amsterdam:20160604T170000
DTSTAMP:20260422T001554
CREATED:20160114T125313Z
LAST-MODIFIED:20160114T125313Z
UID:1903-1465034400-1465059600@www.bakkenmetniels.nl
SUMMARY:Landwinkel de Groenekan
DESCRIPTION:
URL:https://www.bakkenmetniels.nl/agenda/landwinkel-de-groenekan/
LOCATION:Landwinkel de Groenekan\, Nieuwewteringseweg 139\, Groenekan\, 3737 MG\, Nederland
CATEGORIES:Winkel/Bedrijf
END:VEVENT
BEGIN:VEVENT
DTSTART;TZID=Europe/Amsterdam:20160528T120000
DTEND;TZID=Europe/Amsterdam:20160528T160000
DTSTAMP:20260422T001554
CREATED:20160419T131338Z
LAST-MODIFIED:20160419T131338Z
UID:2147-1464436800-1464451200@www.bakkenmetniels.nl
SUMMARY:De Linde
DESCRIPTION:Voorjaarsmarkt
URL:https://www.bakkenmetniels.nl/agenda/de-linde/
LOCATION:De Linde\, Hasselt\, Nederland
CATEGORIES:Winkel/Bedrijf
END:VEVENT
BEGIN:VEVENT
DTSTART;TZID=Europe/Amsterdam:20160505T100000
DTEND;TZID=Europe/Amsterdam:20160505T160000
DTSTAMP:20260422T001554
CREATED:20160419T130840Z
LAST-MODIFIED:20160419T132541Z
UID:2143-1462442400-1462464000@www.bakkenmetniels.nl
SUMMARY:IJsboerderij Yscowd
DESCRIPTION:Lekker bruchen in de stal met gezellige kramen en shows
URL:https://www.bakkenmetniels.nl/agenda/bevrijdingsdag/
LOCATION:ijsboerderij Yscowd\, Hattem
CATEGORIES:Winkel/Bedrijf
END:VEVENT
BEGIN:VEVENT
DTSTART;VALUE=DATE:20160402
DTEND;VALUE=DATE:20160403
DTSTAMP:20260422T001554
CREATED:20160126T132028Z
LAST-MODIFIED:20160126T132028Z
UID:1920-1459555200-1459641599@www.bakkenmetniels.nl
SUMMARY:Kom in de Kas
DESCRIPTION:
URL:https://www.bakkenmetniels.nl/agenda/kom-in-de-kas/
LOCATION:Kalter aardbeien\, Tuindersweg 2\, Ijsselmuiden
CATEGORIES:Winkel/Bedrijf
END:VEVENT
BEGIN:VEVENT
DTSTART;TZID=Europe/Amsterdam:20160229T180000
DTEND;TZID=Europe/Amsterdam:20160229T220000
DTSTAMP:20260422T001554
CREATED:20160126T130828Z
LAST-MODIFIED:20160126T130828Z
UID:1914-1456768800-1456783200@www.bakkenmetniels.nl
SUMMARY:Welkoop Staphorst
DESCRIPTION:
URL:https://www.bakkenmetniels.nl/agenda/welkoop-staphorst/
LOCATION:Welkoop Staphorst\, Oude Rijksweg 138\, Staphorst\, 7951 DN
CATEGORIES:Winkel/Bedrijf
ORGANIZER;CN="Naamloos Organisator":MAILTO:info@vanrenswoudewebdesign.nl
END:VEVENT
BEGIN:VEVENT
DTSTART;TZID=Europe/Amsterdam:20131220T080000
DTEND;TZID=Europe/Amsterdam:20131221T170000
DTSTAMP:20260422T001554
CREATED:20150928T101114Z
LAST-MODIFIED:20150928T102331Z
UID:1335-1387526400-1387645200@www.bakkenmetniels.nl
SUMMARY:Unieke appelrondo’s van Bakken met Niels en Stokerij Verhage. - Foto: Jantine van Tinteren
DESCRIPTION:Unieke appelrondo’s van Bakken met Niels en Stokerij Verhage\n\n\nLuttelgeest – Bakker Niels van Til van Bakken met Niels zorgt deze winter voor een unieke smaakbeleving bij boerderijwinkel Verhage in Luttelgeest.\n\n\nSpeciaal voor de decembermaand heeft de bakker een appelrondo gemaakt waar appels op liggen die in de Eau de Vie zijn geweekt die in de stokerij van Verhage wordt geproduceerd. ‘Het is een hele beleving: je bent bij de appelteler en je neemt een kijkje bij de stokerij. Dan is het verhaal compleet’\, lacht Van Til. \nBakker Niels is al jaren een bekend gezicht bij boerderijwinkel Verhage. In zijn mobiele bakkerij bakt hij ter plaatse verschillende appelrondo’s. Bij het betreden van de winkel ruiken de bezoekers dan ook meteen: bakker Niels is er weer. Van Til: ‘Ik ben veel in landwinkels te vinden\, ik ben graag bij fruittelers\, dan ben je dichtbij de bron.’ \n\nHet is zeker niet de eerste keer dat de bakker de combinatie maakt van een streekproduct op zijn appelrondo. Het is echter wel voor het eerst dat hij de ter plaatse gestookte en op hout gelagerde Eau de Vie van Goudreinet van Stokerij Verhage hiervoor gebruikt. Na verschillende pogingen\, is het resultaat om de vingers bij af te likken. \nDe appelstukjes worden kort geblancheerd\, waarna het kookvocht met suiker en een bindmiddel wordt vermengt met het destillaat. ‘Deze appelrondo heeft een luxe tintje. Er zit nog meer arbeid en liefde in’\, vertelt Van Til. ‘Het is een bewerkelijk koekje\, maar de frisse smaak van de geblancheerde appel erop is als de kers op de taart.’ \nOm de beleving van de decemberrondo helemaal compleet te maken\, is een bezoekje aan de stokerij natuurlijk essentieel. Peter Verhage neemt belangstellenden graag mee naar een ander pand op het erf. Fruitige en houtige geuren komen de bezoekers tegemoet\, terwijl in de glimmend gepoetste ketel alweer de volgende fruitige borrel wordt gebrouwen. \nBakken met Niels is op vrijdag 20 en zaterdag 21 december te vinden bij boerderijwinkel Verhage in Luttelgeest. Kijk voor meer informatie op www.bakkenmetniels.nl en www.verhagefruit.nl
URL:https://www.bakkenmetniels.nl/agenda/unieke-appelrondos-van-bakken-met-niels-en-stokerij-verhage-foto-jantine-van-tinteren/
LOCATION:Onbenoemde locatie\, Luttelgeest
CATEGORIES:Winkel/Bedrijf
ATTACH;FMTTYPE=image/jpeg:https://www.bakkenmetniels.nl/wp-content/uploads/2015/09/luttelgeest.jpg
END:VEVENT
END:VCALENDAR