BEGIN:VCALENDAR
VERSION:2.0
PRODID:-//Bakken met Niels - ECPv6.15.20//NONSGML v1.0//EN
CALSCALE:GREGORIAN
METHOD:PUBLISH
X-WR-CALNAME:Bakken met Niels
X-ORIGINAL-URL:https://www.bakkenmetniels.nl
X-WR-CALDESC:Evenementen voor Bakken met Niels
REFRESH-INTERVAL;VALUE=DURATION:PT1H
X-Robots-Tag:noindex
X-PUBLISHED-TTL:PT1H
BEGIN:VTIMEZONE
TZID:Europe/Amsterdam
BEGIN:DAYLIGHT
TZOFFSETFROM:+0100
TZOFFSETTO:+0200
TZNAME:CEST
DTSTART:20120325T010000
END:DAYLIGHT
BEGIN:STANDARD
TZOFFSETFROM:+0200
TZOFFSETTO:+0100
TZNAME:CET
DTSTART:20121028T010000
END:STANDARD
BEGIN:DAYLIGHT
TZOFFSETFROM:+0100
TZOFFSETTO:+0200
TZNAME:CEST
DTSTART:20130331T010000
END:DAYLIGHT
BEGIN:STANDARD
TZOFFSETFROM:+0200
TZOFFSETTO:+0100
TZNAME:CET
DTSTART:20131027T010000
END:STANDARD
BEGIN:DAYLIGHT
TZOFFSETFROM:+0100
TZOFFSETTO:+0200
TZNAME:CEST
DTSTART:20140330T010000
END:DAYLIGHT
BEGIN:STANDARD
TZOFFSETFROM:+0200
TZOFFSETTO:+0100
TZNAME:CET
DTSTART:20141026T010000
END:STANDARD
BEGIN:DAYLIGHT
TZOFFSETFROM:+0100
TZOFFSETTO:+0200
TZNAME:CEST
DTSTART:20150329T010000
END:DAYLIGHT
BEGIN:STANDARD
TZOFFSETFROM:+0200
TZOFFSETTO:+0100
TZNAME:CET
DTSTART:20151025T010000
END:STANDARD
BEGIN:DAYLIGHT
TZOFFSETFROM:+0100
TZOFFSETTO:+0200
TZNAME:CEST
DTSTART:20160327T010000
END:DAYLIGHT
BEGIN:STANDARD
TZOFFSETFROM:+0200
TZOFFSETTO:+0100
TZNAME:CET
DTSTART:20161030T010000
END:STANDARD
BEGIN:DAYLIGHT
TZOFFSETFROM:+0100
TZOFFSETTO:+0200
TZNAME:CEST
DTSTART:20170326T010000
END:DAYLIGHT
BEGIN:STANDARD
TZOFFSETFROM:+0200
TZOFFSETTO:+0100
TZNAME:CET
DTSTART:20171029T010000
END:STANDARD
END:VTIMEZONE
BEGIN:VEVENT
DTSTART;TZID=Europe/Amsterdam:20160516T100000
DTEND;TZID=Europe/Amsterdam:20160516T160000
DTSTAMP:20260423T100915
CREATED:20160419T131107Z
LAST-MODIFIED:20160419T131143Z
UID:2145-1463392800-1463414400@www.bakkenmetniels.nl
SUMMARY:Landwinkel Weenink
DESCRIPTION:Op 2e pinksterdag (16 mei 2016) is het weer zover! \nIn 2016 wordt de Achterhoekse Streekproductenmarkt voor de 16e keer georganiseerd!\nDe markt is door de jaren heen gegroeid tot een groot Achterhoeks evenement op de 2e pinksterdag.\nDe laatste jaren ontvangen we tussen de 4000 en 5000 bezoekers. \nVanaf 10.00 uur is de markt geopend en sluit s’middags om 17.00 uur. De kern van de Achterhoekse Streekproductenmarkt zijn uiteraard de overheerlijke producten die door de Achterhoekse producenten op de markt worden aangeboden. Denk hierbij aan Boerenjam\, Kaas\, Worst\, Aardbeien\, Koek\, Brood\, Vlees\, Groenten\, IJs\, Honing\, Geitenkaas\, Meelproducten en nog veel meer lekkernijen!
URL:https://www.bakkenmetniels.nl/agenda/tweede-pinksterdag/
LOCATION:Landwinkel Weenink\, Lievelde
CATEGORIES:Fair/Streekmarkt
END:VEVENT
BEGIN:VEVENT
DTSTART;TZID=Europe/Amsterdam:20160505T100000
DTEND;TZID=Europe/Amsterdam:20160505T160000
DTSTAMP:20260423T100915
CREATED:20160419T130840Z
LAST-MODIFIED:20160419T132541Z
UID:2143-1462442400-1462464000@www.bakkenmetniels.nl
SUMMARY:IJsboerderij Yscowd
DESCRIPTION:Lekker bruchen in de stal met gezellige kramen en shows
URL:https://www.bakkenmetniels.nl/agenda/bevrijdingsdag/
LOCATION:ijsboerderij Yscowd\, Hattem
CATEGORIES:Winkel/Bedrijf
END:VEVENT
BEGIN:VEVENT
DTSTART;TZID=Europe/Amsterdam:20160427T090000
DTEND;TZID=Europe/Amsterdam:20160427T160000
DTSTAMP:20260423T100915
CREATED:20160419T130426Z
LAST-MODIFIED:20160419T132454Z
UID:2141-1461747600-1461772800@www.bakkenmetniels.nl
SUMMARY:Twistvlietpark | Koningsdag
DESCRIPTION:In het Twistvlietpark worden verschillende evenementen georganiseerd rondom Koningsdag. Ook zal er zoals ieder jaar een kleedjesmarkt zijn rond het Winkelcentrum Stadshagen en het Twistvlietpark. Het programma wordt nader bekend gemaakt.
URL:https://www.bakkenmetniels.nl/agenda/koningsdag/
LOCATION:Twistvlietpark\, Zwolle
CATEGORIES:Festival
ATTACH;FMTTYPE=image/jpeg:https://www.bakkenmetniels.nl/wp-content/uploads/2015/09/niels-op-de-markt.jpg
END:VEVENT
BEGIN:VEVENT
DTSTART;TZID=Europe/Amsterdam:20160410T080000
DTEND;TZID=Europe/Amsterdam:20160410T170000
DTSTAMP:20260423T100915
CREATED:20160126T132146Z
LAST-MODIFIED:20160126T132146Z
UID:1922-1460275200-1460307600@www.bakkenmetniels.nl
SUMMARY:Nooterhof
DESCRIPTION:
URL:https://www.bakkenmetniels.nl/agenda/nooterhof/
LOCATION:Onbenoemde locatie\, Goertjesweg 1\, Zwolle
CATEGORIES:Fair/Streekmarkt
END:VEVENT
BEGIN:VEVENT
DTSTART;VALUE=DATE:20160402
DTEND;VALUE=DATE:20160403
DTSTAMP:20260423T100915
CREATED:20160126T132028Z
LAST-MODIFIED:20160126T132028Z
UID:1920-1459555200-1459641599@www.bakkenmetniels.nl
SUMMARY:Kom in de Kas
DESCRIPTION:
URL:https://www.bakkenmetniels.nl/agenda/kom-in-de-kas/
LOCATION:Kalter aardbeien\, Tuindersweg 2\, Ijsselmuiden
CATEGORIES:Winkel/Bedrijf
END:VEVENT
BEGIN:VEVENT
DTSTART;TZID=Europe/Amsterdam:20160229T180000
DTEND;TZID=Europe/Amsterdam:20160229T220000
DTSTAMP:20260423T100915
CREATED:20160126T130828Z
LAST-MODIFIED:20160126T130828Z
UID:1914-1456768800-1456783200@www.bakkenmetniels.nl
SUMMARY:Welkoop Staphorst
DESCRIPTION:
URL:https://www.bakkenmetniels.nl/agenda/welkoop-staphorst/
LOCATION:Welkoop Staphorst\, Oude Rijksweg 138\, Staphorst\, 7951 DN
CATEGORIES:Winkel/Bedrijf
ORGANIZER;CN="Naamloos Organisator":MAILTO:info@vanrenswoudewebdesign.nl
END:VEVENT
BEGIN:VEVENT
DTSTART;VALUE=DATE:20160207
DTEND;VALUE=DATE:20160208
DTSTAMP:20260423T100915
CREATED:20160126T131905Z
LAST-MODIFIED:20160126T131905Z
UID:1919-1454803200-1454889599@www.bakkenmetniels.nl
SUMMARY:Carnaval Zwolle
DESCRIPTION:
URL:https://www.bakkenmetniels.nl/agenda/carnaval-zwolle-3/
CATEGORIES:Fair/Streekmarkt
END:VEVENT
BEGIN:VEVENT
DTSTART;VALUE=DATE:20160206
DTEND;VALUE=DATE:20160207
DTSTAMP:20260423T100915
CREATED:20160126T131822Z
LAST-MODIFIED:20160126T131822Z
UID:1918-1454716800-1454803199@www.bakkenmetniels.nl
SUMMARY:Carnaval Zwolle
DESCRIPTION:
URL:https://www.bakkenmetniels.nl/agenda/carnaval-zwolle-2/
CATEGORIES:Fair/Streekmarkt
END:VEVENT
BEGIN:VEVENT
DTSTART;VALUE=DATE:20160205
DTEND;VALUE=DATE:20160206
DTSTAMP:20260423T100915
CREATED:20160126T131730Z
LAST-MODIFIED:20160126T131730Z
UID:1917-1454630400-1454716799@www.bakkenmetniels.nl
SUMMARY:Carnaval Zwolle
DESCRIPTION:
URL:https://www.bakkenmetniels.nl/agenda/carnaval-zwolle/
CATEGORIES:Fair/Streekmarkt
END:VEVENT
BEGIN:VEVENT
DTSTART;VALUE=DATE:20151231
DTEND;VALUE=DATE:20160101
DTSTAMP:20260423T100915
CREATED:20151209T103536Z
LAST-MODIFIED:20151209T103536Z
UID:1723-1451520000-1451606399@www.bakkenmetniels.nl
SUMMARY:Kaas – en zorgboerderij De Huppe
DESCRIPTION:
URL:https://www.bakkenmetniels.nl/agenda/kaas-en-zorgboerderij-de-huppe-3/
LOCATION:Kaas – en zorgboerderij De Huppe\, Kleine Veerweg 9\, Zwolle\, 8017 BP 
END:VEVENT
BEGIN:VEVENT
DTSTART;TZID=Europe/Amsterdam:20151230T120000
DTEND;TZID=Europe/Amsterdam:20151230T180000
DTSTAMP:20260423T100915
CREATED:20151209T064937Z
LAST-MODIFIED:20151209T064937Z
UID:1721-1451476800-1451498400@www.bakkenmetniels.nl
SUMMARY:Kaas – en zorgboerderij De Huppe
DESCRIPTION:
URL:https://www.bakkenmetniels.nl/agenda/kaas-en-zorgboerderij-de-huppe-2/
LOCATION:Kaas – en zorgboerderij De Huppe\, Kleine Veerweg 9\, Zwolle\, 8017 BP 
END:VEVENT
BEGIN:VEVENT
DTSTART;TZID=Europe/Amsterdam:20151213T110000
DTEND;TZID=Europe/Amsterdam:20151213T170000
DTSTAMP:20260423T100915
CREATED:20151105T055913Z
LAST-MODIFIED:20151130T112928Z
UID:1611-1450004400-1450026000@www.bakkenmetniels.nl
SUMMARY:Smaak van Zwolle
DESCRIPTION:Slow Food Zwolle organiseert 4 x per jaar de streekmarkt ‘De Smaak van Zwolle’ in samenwerking met Doepark De Nooterhof\, Zwolle. \nDe Smaak van Zwolle is een streekmarkt waar alleen producenten/standhouders uit Zwolle en de regio (binnen een straal van 30km) hun producten laten zien\, proeven en verkopen. De toegang is gratis en leuk voor het hele gezin. \nDeze markt vindt 4 x per jaar plaats: Voorjaar\, Zomer\, Najaar en een speciale Kerstmarkt in december.
URL:https://www.bakkenmetniels.nl/agenda/smaak-van-zwolle/
CATEGORIES:Fair/Streekmarkt
ATTACH;FMTTYPE=image/jpeg:https://www.bakkenmetniels.nl/wp-content/uploads/2015/11/De-Smaak-van-Zwolle.jpg
END:VEVENT
BEGIN:VEVENT
DTSTART;TZID=Europe/Amsterdam:20151211T100000
DTEND;TZID=Europe/Amsterdam:20151211T180000
DTSTAMP:20260423T100915
CREATED:20151209T064654Z
LAST-MODIFIED:20151209T064654Z
UID:1717-1449828000-1449856800@www.bakkenmetniels.nl
SUMMARY:GroenRijk Eemsdelta
DESCRIPTION:
URL:https://www.bakkenmetniels.nl/agenda/groenrijk-eemsdelta-2/
LOCATION:GroenRijk Eemsdelta\, Farmsumerweg 136\, Appingedam\, 9902 BW 
END:VEVENT
BEGIN:VEVENT
DTSTART;TZID=Europe/Amsterdam:20151210T100000
DTEND;TZID=Europe/Amsterdam:20151210T180000
DTSTAMP:20260423T100915
CREATED:20151209T064515Z
LAST-MODIFIED:20151209T064515Z
UID:1715-1449741600-1449770400@www.bakkenmetniels.nl
SUMMARY:GroenRijk Eemsdelta
DESCRIPTION:
URL:https://www.bakkenmetniels.nl/agenda/groenrijk-eemsdelta/
LOCATION:GroenRijk Eemsdelta\, Farmsumerweg 136\, Appingedam\, 9902 BW 
END:VEVENT
BEGIN:VEVENT
DTSTART;TZID=Europe/Amsterdam:20150927T110000
DTEND;TZID=Europe/Amsterdam:20150927T150000
DTSTAMP:20260423T100915
CREATED:20150928T085155Z
LAST-MODIFIED:20150928T094814Z
UID:1315-1443351600-1443366000@www.bakkenmetniels.nl
SUMMARY:Fair Maarheze
DESCRIPTION:
URL:https://www.bakkenmetniels.nl/agenda/fair-maarheze/
LOCATION:Onbenoemde locatie\, Maarheze\, 8014em\, Nederland
CATEGORIES:Fair/Streekmarkt
ATTACH;FMTTYPE=image/jpeg:https://www.bakkenmetniels.nl/wp-content/uploads/2015/09/fair-maarheze.jpg
ORGANIZER;CN="Unnamed Organizer":MAILTO:info@sandragortemaker.nl
END:VEVENT
BEGIN:VEVENT
DTSTART;TZID=Europe/Amsterdam:20150731T103000
DTEND;TZID=Europe/Amsterdam:20150731T170000
DTSTAMP:20260423T100915
CREATED:20150928T094628Z
LAST-MODIFIED:20150928T094755Z
UID:1323-1438338600-1438362000@www.bakkenmetniels.nl
SUMMARY:Zomermarkt Giethoorn
DESCRIPTION:Niels bakt live op de zomermarkt in Giethoorn.
URL:https://www.bakkenmetniels.nl/agenda/zomermarkt-giethoorn/
LOCATION:Onbenoemde locatie\, Giethoorn
CATEGORIES:Fair/Streekmarkt
ATTACH;FMTTYPE=image/jpeg:https://www.bakkenmetniels.nl/wp-content/uploads/2015/09/635065249963889.jpg
END:VEVENT
BEGIN:VEVENT
DTSTART;TZID=Europe/Amsterdam:20131220T080000
DTEND;TZID=Europe/Amsterdam:20131221T170000
DTSTAMP:20260423T100915
CREATED:20150928T101114Z
LAST-MODIFIED:20150928T102331Z
UID:1335-1387526400-1387645200@www.bakkenmetniels.nl
SUMMARY:Unieke appelrondo’s van Bakken met Niels en Stokerij Verhage. - Foto: Jantine van Tinteren
DESCRIPTION:Unieke appelrondo’s van Bakken met Niels en Stokerij Verhage\n\n\nLuttelgeest – Bakker Niels van Til van Bakken met Niels zorgt deze winter voor een unieke smaakbeleving bij boerderijwinkel Verhage in Luttelgeest.\n\n\nSpeciaal voor de decembermaand heeft de bakker een appelrondo gemaakt waar appels op liggen die in de Eau de Vie zijn geweekt die in de stokerij van Verhage wordt geproduceerd. ‘Het is een hele beleving: je bent bij de appelteler en je neemt een kijkje bij de stokerij. Dan is het verhaal compleet’\, lacht Van Til. \nBakker Niels is al jaren een bekend gezicht bij boerderijwinkel Verhage. In zijn mobiele bakkerij bakt hij ter plaatse verschillende appelrondo’s. Bij het betreden van de winkel ruiken de bezoekers dan ook meteen: bakker Niels is er weer. Van Til: ‘Ik ben veel in landwinkels te vinden\, ik ben graag bij fruittelers\, dan ben je dichtbij de bron.’ \n\nHet is zeker niet de eerste keer dat de bakker de combinatie maakt van een streekproduct op zijn appelrondo. Het is echter wel voor het eerst dat hij de ter plaatse gestookte en op hout gelagerde Eau de Vie van Goudreinet van Stokerij Verhage hiervoor gebruikt. Na verschillende pogingen\, is het resultaat om de vingers bij af te likken. \nDe appelstukjes worden kort geblancheerd\, waarna het kookvocht met suiker en een bindmiddel wordt vermengt met het destillaat. ‘Deze appelrondo heeft een luxe tintje. Er zit nog meer arbeid en liefde in’\, vertelt Van Til. ‘Het is een bewerkelijk koekje\, maar de frisse smaak van de geblancheerde appel erop is als de kers op de taart.’ \nOm de beleving van de decemberrondo helemaal compleet te maken\, is een bezoekje aan de stokerij natuurlijk essentieel. Peter Verhage neemt belangstellenden graag mee naar een ander pand op het erf. Fruitige en houtige geuren komen de bezoekers tegemoet\, terwijl in de glimmend gepoetste ketel alweer de volgende fruitige borrel wordt gebrouwen. \nBakken met Niels is op vrijdag 20 en zaterdag 21 december te vinden bij boerderijwinkel Verhage in Luttelgeest. Kijk voor meer informatie op www.bakkenmetniels.nl en www.verhagefruit.nl
URL:https://www.bakkenmetniels.nl/agenda/unieke-appelrondos-van-bakken-met-niels-en-stokerij-verhage-foto-jantine-van-tinteren/
LOCATION:Onbenoemde locatie\, Luttelgeest
CATEGORIES:Winkel/Bedrijf
ATTACH;FMTTYPE=image/jpeg:https://www.bakkenmetniels.nl/wp-content/uploads/2015/09/luttelgeest.jpg
END:VEVENT
END:VCALENDAR