BEGIN:VCALENDAR
VERSION:2.0
PRODID:-//Bakken met Niels - ECPv6.15.20//NONSGML v1.0//EN
CALSCALE:GREGORIAN
METHOD:PUBLISH
X-ORIGINAL-URL:https://www.bakkenmetniels.nl
X-WR-CALDESC:Evenementen voor Bakken met Niels
REFRESH-INTERVAL;VALUE=DURATION:PT1H
X-Robots-Tag:noindex
X-PUBLISHED-TTL:PT1H
BEGIN:VTIMEZONE
TZID:Europe/Amsterdam
BEGIN:DAYLIGHT
TZOFFSETFROM:+0100
TZOFFSETTO:+0200
TZNAME:CEST
DTSTART:20180325T010000
END:DAYLIGHT
BEGIN:STANDARD
TZOFFSETFROM:+0200
TZOFFSETTO:+0100
TZNAME:CET
DTSTART:20181028T010000
END:STANDARD
BEGIN:DAYLIGHT
TZOFFSETFROM:+0100
TZOFFSETTO:+0200
TZNAME:CEST
DTSTART:20190331T010000
END:DAYLIGHT
BEGIN:STANDARD
TZOFFSETFROM:+0200
TZOFFSETTO:+0100
TZNAME:CET
DTSTART:20191027T010000
END:STANDARD
BEGIN:DAYLIGHT
TZOFFSETFROM:+0100
TZOFFSETTO:+0200
TZNAME:CEST
DTSTART:20200329T010000
END:DAYLIGHT
BEGIN:STANDARD
TZOFFSETFROM:+0200
TZOFFSETTO:+0100
TZNAME:CET
DTSTART:20201025T010000
END:STANDARD
END:VTIMEZONE
BEGIN:VEVENT
DTSTART;VALUE=DATE:20191022
DTEND;VALUE=DATE:20191025
DTSTAMP:20260421T134635
CREATED:20190318T115700Z
LAST-MODIFIED:20190318T115700Z
UID:6278-1571702400-1571961599@www.bakkenmetniels.nl
SUMMARY:Bakker Niels op de Familiedagen
DESCRIPTION:Genieten van een gezellig en betaalbaar dagje uit met uw hele familie? Kom dan naar de Familiedagen op D.V. 22\, 23 en 24 oktober 2019 in Evenementenhal Gorinchem. Doe mee met diverse activiteiten\, bezoek een ruim aanbod aan winkels en bedrijven\, ervaar het muzikale podiumprogramma en geniet van het all inclusive horeca concept. Ontmoet gelijkgestemden en proef de gemoedelijke sfeer van Familiedagen; hét evenement voor de gereformeerde gezindte. \nNet als voorgaande edities\, is Bakker Niels ook weer van de partij.
URL:https://www.bakkenmetniels.nl/agenda/bakker-niels-op-de-familiedagen/
LOCATION:Evenementenhal Gorinchem\, Franklinweg 2\, Gorinchem\, 4207 HZ
CATEGORIES:Beurs
END:VEVENT
BEGIN:VEVENT
DTSTART;TZID=Europe/Amsterdam:20191019T090000
DTEND;TZID=Europe/Amsterdam:20191019T180000
DTSTAMP:20260421T134635
CREATED:20190925T185849Z
LAST-MODIFIED:20190925T185849Z
UID:6988-1571475600-1571508000@www.bakkenmetniels.nl
SUMMARY:Bakker Niels bij Welkoop Heerenveen
DESCRIPTION:Doorlopende demo – proeverij – met de Soezie – producten – appelrondo’s en suikerbrood.
URL:https://www.bakkenmetniels.nl/agenda/bakker-niels-bij-welkoop-heerenveen/
LOCATION:Welkoop Heerenveen\, Jousterweg 16\, Heerenveen\, 8447 RH
CATEGORIES:Winkel/Bedrijf
END:VEVENT
BEGIN:VEVENT
DTSTART;TZID=Europe/Amsterdam:20191006T100000
DTEND;TZID=Europe/Amsterdam:20191006T160000
DTSTAMP:20260421T134635
CREATED:20190925T185455Z
LAST-MODIFIED:20190925T185455Z
UID:6985-1570356000-1570377600@www.bakkenmetniels.nl
SUMMARY:Fruitpersdag Zuidwolde
DESCRIPTION:Programma: roomboter karamel stroopwafels en rondo’s!
URL:https://www.bakkenmetniels.nl/agenda/fruitpersdag-zuidwolde-2/
LOCATION:Fruitpersdag Zuidwolde\, Kleefegge 6 A\, Zuidwolde\, 7921 RB
CATEGORIES:Fair/Streekmarkt
END:VEVENT
BEGIN:VEVENT
DTSTART;TZID=Europe/Amsterdam:20191005T080000
DTEND;TZID=Europe/Amsterdam:20191005T170000
DTSTAMP:20260421T134636
CREATED:20190903T190730Z
LAST-MODIFIED:20190903T190730Z
UID:6916-1570262400-1570294800@www.bakkenmetniels.nl
SUMMARY:Bakker Niels bij Welkoop Sevenum
DESCRIPTION:Doorlopende demo – proeverij – met de Soezie – producten – appelrondo’s en suikerbrood.
URL:https://www.bakkenmetniels.nl/agenda/bakker-niels-bij-welkoop-sevenum/
LOCATION:Welkoop Sevenum\, Horsterweg 68\, Sevenum\, 5975 NB
CATEGORIES:Winkel/Bedrijf
END:VEVENT
BEGIN:VEVENT
DTSTART;TZID=Europe/Amsterdam:20190928T100000
DTEND;TZID=Europe/Amsterdam:20190929T180000
DTSTAMP:20260421T134636
CREATED:20190903T190517Z
LAST-MODIFIED:20190925T185132Z
UID:6912-1569664800-1569780000@www.bakkenmetniels.nl
SUMMARY:Bakker Niels bij de Naoberdagen in Lievelde
DESCRIPTION:De Naoberdagen zijn een belevenis\, bijzonder en anders dan anders. Op inspirerende themapleinen is het genieten van streekproducten\, hebbedingen\, ambachten\, eropuit en tuin&erf uit het oosten. Op de sfeervolle locatie van Erve Kots (met je toegangsbewijs heb je ook toegang tot de museumboerderij) zorgen deze themaweides en muzikale optredens voor een fraaie ambiance. “Gezelligheid voor jong en oud\, dat wordt genieten!”  En dus is Niels ook weer van de partij! Doorlopende demo met goudbruine rondo’s!
URL:https://www.bakkenmetniels.nl/agenda/bakker-niels-bij-de-naoberdagen-in-lievelde/
LOCATION:Erve Kots\, Eimersweg 4\, Lievelde\, 7137 HG
CATEGORIES:Festival
END:VEVENT
BEGIN:VEVENT
DTSTART;TZID=Europe/Amsterdam:20190925T083000
DTEND;TZID=Europe/Amsterdam:20190925T170000
DTSTAMP:20260421T134636
CREATED:20190925T190446Z
LAST-MODIFIED:20190925T190446Z
UID:6997-1569400200-1569430800@www.bakkenmetniels.nl
SUMMARY:Bakker Niels bij Welkoop Zaltbommel
DESCRIPTION:Doorlopende demo – proeverij – met de Soezie – producten – appelrondo’s en suikerbrood.
URL:https://www.bakkenmetniels.nl/agenda/bakker-niels-bij-welkoop-zaltbommel/
LOCATION:Welkoop Zaltbommel\, Van Voordenpark 3\, Zaltbommel\, 5301 KP
CATEGORIES:Winkel/Bedrijf
END:VEVENT
BEGIN:VEVENT
DTSTART;VALUE=DATE:20190922
DTEND;VALUE=DATE:20190923
DTSTAMP:20260421T134636
CREATED:20190903T190021Z
LAST-MODIFIED:20190903T190021Z
UID:6910-1569110400-1569196799@www.bakkenmetniels.nl
SUMMARY:Bakker Niels op het Oogstfeest in Meppen
DESCRIPTION:Ook dit jaar is Niels weer aanwezig op het Oogstfeest in Meppen.
URL:https://www.bakkenmetniels.nl/agenda/bakker-niels-op-het-oogstfeest-in-meppen/
LOCATION:Oogstfeest Meppen\, Dennekampen\, Meppen\, Drenthe
CATEGORIES:Fair/Streekmarkt
END:VEVENT
BEGIN:VEVENT
DTSTART;VALUE=DATE:20190921
DTEND;VALUE=DATE:20190922
DTSTAMP:20260421T134636
CREATED:20190903T185719Z
LAST-MODIFIED:20190903T185719Z
UID:6907-1569024000-1569110399@www.bakkenmetniels.nl
SUMMARY:Bakker Niels bij Welkoop Heythuysen
DESCRIPTION:Doorlopende demo – proeverij – met de Soezie – producten – appelrondo’s en suikerbrood.
URL:https://www.bakkenmetniels.nl/agenda/bakker-niels-bij-welkoop-heythuysen/
LOCATION:Welkoop Heythuysen\, Leveroyseweg 9\, Heythuysen\, 6093 NE
CATEGORIES:Winkel/Bedrijf
END:VEVENT
BEGIN:VEVENT
DTSTART;TZID=Europe/Amsterdam:20190915T110000
DTEND;TZID=Europe/Amsterdam:20190915T170000
DTSTAMP:20260421T134636
CREATED:20190903T185426Z
LAST-MODIFIED:20190903T185426Z
UID:6903-1568545200-1568566800@www.bakkenmetniels.nl
SUMMARY:De Smaak van Zwolle
DESCRIPTION:Niels blijft vandaag dicht bij huis en staat de hele dag op De Smaak van Zwolle.
URL:https://www.bakkenmetniels.nl/agenda/de-smaak-van-zwolle/
LOCATION:Park de Wezenlanden\, Park de Wezenlanden 1\, Zwolle
CATEGORIES:Fair/Streekmarkt
END:VEVENT
BEGIN:VEVENT
DTSTART;TZID=Europe/Amsterdam:20190914T100000
DTEND;TZID=Europe/Amsterdam:20190914T170000
DTSTAMP:20260421T134636
CREATED:20190903T184656Z
LAST-MODIFIED:20190903T184656Z
UID:6899-1568455200-1568480400@www.bakkenmetniels.nl
SUMMARY:Niels bij het Pompoenenweekend
DESCRIPTION:Niels staat de hele zaterdag op het Pompoenenfestival in Oldeberkoop.
URL:https://www.bakkenmetniels.nl/agenda/niels-bij-het-pompoenenweekend/
LOCATION:Kaasboerderij de Stelp\, Wolvegasterweg 49\, Oldeberkoop\, 8421 PS
CATEGORIES:Festival
END:VEVENT
BEGIN:VEVENT
DTSTART;TZID=Europe/Amsterdam:20190907T100000
DTEND;TZID=Europe/Amsterdam:20190907T170000
DTSTAMP:20260421T134636
CREATED:20190903T183613Z
LAST-MODIFIED:20190903T183613Z
UID:6896-1567850400-1567875600@www.bakkenmetniels.nl
SUMMARY:Scholten Familiedag 2019
DESCRIPTION:Op de gezellige\, vrij toegankelijke familiedag van Scholten Uitgeverij kan een lekkere stroopwafel natuurlijk niet ontbreken.\nNiels is de hele dag aanwezig om voor u de allerlekkerste stroopwafels te bakken.
URL:https://www.bakkenmetniels.nl/agenda/scholten-familiedag-2019/
LOCATION:Brasserie Bij Hanz\, Hanzeplein 11-27\, Zwolle\, 8017JD
CATEGORIES:Opendag
END:VEVENT
BEGIN:VEVENT
DTSTART;VALUE=DATE:20190802
DTEND;VALUE=DATE:20190805
DTSTAMP:20260421T134636
CREATED:20190318T115348Z
LAST-MODIFIED:20190318T115714Z
UID:6276-1564704000-1564963199@www.bakkenmetniels.nl
SUMMARY:Bakken met Niels op het Festival der Zoete Verleidingen
DESCRIPTION:Ben jij een taartenbakker\, dan ga je naar Festival Zoet om inspiratie op te doen bij bakdemo’s door bekende en minder bekende (maar wel lekkere) koks en patissiers. Bakspullen\, bakboeken en ingrediënten vind je er ook.\nBen jij geen bakker\, maar wel een fervent taarteneter? Ook dan ben je hier op de juiste plek. Er zijn volop stands met tongstrelende taartjes. Barista’s maken de lekkerste koffies\, allerlei theesoorten\, maar ook sapjes\, drankjes\, jams enzo.\nMaar ben je gewoon dol op shoppen en wil je een leuk dagje uit beleven? Er zijn ook heel veel stands met originele hebbedingen\, serviesgoed\, woonspullen\, brocante\, mooie sieraden. Alles door ons persoonlijk geselecteerd en goedgekeurd. En vergeet vooral niet de gezellige terrasjes en fijne muziek! \nEn uiteraard zijn er geen baksels zo zoet en verleidend als de baksels van Bakker Niels.
URL:https://www.bakkenmetniels.nl/agenda/bakken-met-niels-op-het-festival-der-zoete-verleidingen-3/
LOCATION:Festival der Zoete Verleidingen\, Bommertsweg 2\, Sleen\, 7841 BZ\, Nederland
CATEGORIES:Festival
END:VEVENT
BEGIN:VEVENT
DTSTART;TZID=Europe/Amsterdam:20190720T100000
DTEND;TZID=Europe/Amsterdam:20190720T160000
DTSTAMP:20260421T134636
CREATED:20190709T150255Z
LAST-MODIFIED:20190709T150255Z
UID:6755-1563616800-1563638400@www.bakkenmetniels.nl
SUMMARY:Doorlopende bak demonstratie bij heropening Welkoop Roelofarendsveen
DESCRIPTION:Bakker Niels is de hele dag aanwezig voor een doorlopende bak demonstratie.\nProgramma diverse rondo’s\, Fries suikerbrood en nog veel meer.
URL:https://www.bakkenmetniels.nl/agenda/doorlopende-bak-demonstratie-bij-heropening-welkoop-roelofarendsveen/
LOCATION:Welkoop Roelofarendsveen\, Zuideinde 3\, Roelofarendsveen\, 2371 BP
CATEGORIES:Winkel/Bedrijf
END:VEVENT
BEGIN:VEVENT
DTSTART;TZID=Europe/Amsterdam:20190706T100000
DTEND;TZID=Europe/Amsterdam:20190706T160000
DTSTAMP:20260421T134636
CREATED:20190519T084602Z
LAST-MODIFIED:20190519T084602Z
UID:6462-1562407200-1562428800@www.bakkenmetniels.nl
SUMMARY:Bakken met Niels naar Poortvliet
DESCRIPTION:Bakker Niels bakt de rondo’s weer goud-bruin\, bij Noom Fruit in Poortvliet. \nProgramma: rondo’s
URL:https://www.bakkenmetniels.nl/agenda/bakken-met-niels-naar-poortvliet/
LOCATION:Noom Fruit\, Hogeweg 15a\, Poortvliet\, 4693 RJ
CATEGORIES:Winkel/Bedrijf
END:VEVENT
BEGIN:VEVENT
DTSTART;TZID=Europe/Amsterdam:20190629T100000
DTEND;TZID=Europe/Amsterdam:20190629T160000
DTSTAMP:20260421T134636
CREATED:20190519T084155Z
LAST-MODIFIED:20190519T084155Z
UID:6460-1561802400-1561824000@www.bakkenmetniels.nl
SUMMARY:Bakken met Niels naar Fijnaart
DESCRIPTION:Bakker Niels bakt de rondo’s weer goud-bruin\, bij Roks Streekwinkel. \nProgramma: rondo’s
URL:https://www.bakkenmetniels.nl/agenda/bakken-met-niels-naar-fijnaart/
LOCATION:Roks Streekwinkel\, Blaaksedijk 14a\, Fijnaart\, 4793 RN\, Nederland
CATEGORIES:Winkel/Bedrijf
END:VEVENT
BEGIN:VEVENT
DTSTART;TZID=Europe/Amsterdam:20190622T100000
DTEND;TZID=Europe/Amsterdam:20190622T160000
DTSTAMP:20260421T134636
CREATED:20190519T083828Z
LAST-MODIFIED:20190519T083828Z
UID:6457-1561197600-1561219200@www.bakkenmetniels.nl
SUMMARY:Bakken met Niels naar Houten
DESCRIPTION:Bakker Niels bakt de rondo’s weer goud-bruin\, bij Landwinkel De Lindeboom. \nProgramma: rondo’s
URL:https://www.bakkenmetniels.nl/agenda/bakken-met-niels-naar-houten/
LOCATION:landwinkel De Lindeboom\, Beusichemseweg 22\, 't Goy\, 3997 MJ
CATEGORIES:Winkel/Bedrijf
END:VEVENT
BEGIN:VEVENT
DTSTART;VALUE=DATE:20190610
DTEND;VALUE=DATE:20190611
DTSTAMP:20260421T134636
CREATED:20190117T093121Z
LAST-MODIFIED:20190117T093121Z
UID:6088-1560124800-1560211199@www.bakkenmetniels.nl
SUMMARY:Bakken met Niels op de 19e Achterhoekse Streekproductenmarkt
DESCRIPTION:Feest van creativiteit op de 19e Achterhoekse Streekproductenmarkt 2019.\nMaandag 2e Pinksterdag  is Lievelde weer het centrum van creativiteit in de Achterhoek.\nBij de editie in 2018 kwamen er duizenden bezoekers naar de Achterhoekse Streekproducten Markt. Een dagje uit voor het hele gezin.\nNog steeds vormen streekproducten een belangrijk onderdeel.\nDe Achterhoekse Streekproducten Markt wordt elk jaar gehouden op Tweede Pinksterdag van 10:00 tot 17:00 bij Kaasboerderij Weenink aan de Eimersweg 3 in Lievelde.
URL:https://www.bakkenmetniels.nl/agenda/bakken-met-niels-op-de-19e-achterhoekse-streekproductenmarkt/
LOCATION:Kaasboerderij Weenink\, Eimersweg 3\, Lievelde\, 7137 HG\, Nederland
CATEGORIES:Fair/Streekmarkt
END:VEVENT
BEGIN:VEVENT
DTSTART;TZID=Europe/Amsterdam:20190608T100000
DTEND;TZID=Europe/Amsterdam:20190608T160000
DTSTAMP:20260421T134636
CREATED:20190519T083420Z
LAST-MODIFIED:20190519T083855Z
UID:6454-1559988000-1560009600@www.bakkenmetniels.nl
SUMMARY:Bakken met Niels naar Annen
DESCRIPTION:Bakker Niels weet wat koren nodig hebben: roomboter karamel stroopwafels\, om de keel te smeren!\nKom ook je keel smeren en genieten tijdens het Vocaal Festival Annen. \nProgramma: roomboter karamel stroopwafels
URL:https://www.bakkenmetniels.nl/agenda/bakken-met-niels-naar-annen/
LOCATION:Vocaal Festival Annen\, Strengakkers 17\, Annen\, 9468 HD
CATEGORIES:Festival
END:VEVENT
BEGIN:VEVENT
DTSTART;TZID=Europe/Amsterdam:20190525T100000
DTEND;TZID=Europe/Amsterdam:20190525T170000
DTSTAMP:20260421T134636
CREATED:20190318T114823Z
LAST-MODIFIED:20190318T114823Z
UID:6273-1558778400-1558803600@www.bakkenmetniels.nl
SUMMARY:Doorlopende proeverij Welkoop Emmeloord
DESCRIPTION:Bakker Niels is de hele dag aanwezig voor een doorlopende bak demonstratie.
URL:https://www.bakkenmetniels.nl/agenda/doorlopende-proeverij-welkoop-emmeloord/
LOCATION:Welkoop Emmeloord\, Industrieweg 6\, Emmeloord\, 8304 AD
CATEGORIES:Winkel/Bedrijf
END:VEVENT
BEGIN:VEVENT
DTSTART;TZID=Europe/Amsterdam:20190511T100000
DTEND;TZID=Europe/Amsterdam:20190511T170000
DTSTAMP:20260421T134636
CREATED:20190318T114608Z
LAST-MODIFIED:20190318T114835Z
UID:6271-1557568800-1557594000@www.bakkenmetniels.nl
SUMMARY:Doorlopende proeverij Welkoop Staphorst
DESCRIPTION:Bakker Niels is de hele dag aanwezig voor een doorlopende bak demonstratie.
URL:https://www.bakkenmetniels.nl/agenda/doorlopende-proeverij-welkoop-staphorst/
LOCATION:Welkoop Staphorst\, Oude Rijksweg 138\, Staphorst\, 7951 DN
CATEGORIES:Winkel/Bedrijf
END:VEVENT
BEGIN:VEVENT
DTSTART;TZID=Europe/Amsterdam:20190430T100000
DTEND;TZID=Europe/Amsterdam:20190501T170000
DTSTAMP:20260421T134636
CREATED:20190318T114137Z
LAST-MODIFIED:20190318T114137Z
UID:6269-1556618400-1556730000@www.bakkenmetniels.nl
SUMMARY:Bakker Niels op de Familiedagen Lente Editie 2019
DESCRIPTION:Genieten van een gezellig en betaalbaar dagje uit met uw hele familie? Kom dan naar Familiedagen! Doe mee met diverse activiteiten\, bezoek een ruim aanbod aan winkels en bedrijven en geniet van het muzikale podiumprogramma\, dit alles onder het genot van een hapje en drankje. Ontmoet gelijkgestemden en proef de gemoedelijke sfeer van Familiedagen; hét evenement voor de gereformeerde gezindte. \nNet als voorgaande edities\, is Bakker Niels ook weer van de partij.
URL:https://www.bakkenmetniels.nl/agenda/bakker-niels-op-de-familiedagen-lente-editie-2019/
LOCATION:Evenementenhal Gorinchem\, Franklinweg 2\, Gorinchem\, 4207 HZ
CATEGORIES:Beurs
END:VEVENT
BEGIN:VEVENT
DTSTART;TZID=Europe/Amsterdam:20190427T080000
DTEND;TZID=Europe/Amsterdam:20190427T170000
DTSTAMP:20260421T134636
CREATED:20190318T105928Z
LAST-MODIFIED:20190318T120032Z
UID:6266-1556352000-1556384400@www.bakkenmetniels.nl
SUMMARY:Koningsdag met Bakker Niels
DESCRIPTION:Bakker Niels strijkt vandaag neer in Wezep bij Voetbalvereniging WHC\, om de koningsdagactiviteiten nog feestelijker te maken met overheerlijke stroopwafels!
URL:https://www.bakkenmetniels.nl/agenda/koningsdag-met-bakker-niels/
LOCATION:Sportpark Mulderssingel\, Hoeloosweg 15\, Wezep\, 8091 GE
CATEGORIES:Fair/Streekmarkt,Opendag
END:VEVENT
BEGIN:VEVENT
DTSTART;TZID=Europe/Amsterdam:20190420T100000
DTEND;TZID=Europe/Amsterdam:20190420T170000
DTSTAMP:20260421T134636
CREATED:20190318T105222Z
LAST-MODIFIED:20190318T105222Z
UID:6263-1555754400-1555779600@www.bakkenmetniels.nl
SUMMARY:Doorlopende proeverij Welkoop Emmen
DESCRIPTION:Bakker Niels is de hele dag aanwezig bij de feestelijke opening van Welkoop Emmen met overheerlijke stroopwafels!
URL:https://www.bakkenmetniels.nl/agenda/doorlopende-proeverij-welkoop-emmen/
LOCATION:Welkoop Emmen\, Emmen\, 7821 CB
CATEGORIES:Winkel/Bedrijf
END:VEVENT
BEGIN:VEVENT
DTSTART;TZID=Europe/Amsterdam:20190412T100000
DTEND;TZID=Europe/Amsterdam:20190414T170000
DTSTAMP:20260421T134636
CREATED:20190318T101827Z
LAST-MODIFIED:20190318T103609Z
UID:6260-1555063200-1555261200@www.bakkenmetniels.nl
SUMMARY:Bakken met Niels op het Festival der Zoete Verleidingen
DESCRIPTION:Naast het jaarlijkse festival der Zoete Verleidingen in augustus\, is er nu ook een heuse voorjaarseditie! En uiteraard mag Bakker Niels daar niet bij ontbreken. \nBen jij een taartenbakker\, dan ga je naar Festival Zoet om inspiratie op te doen bij bakdemo’s door bekende en minder bekende (maar wel lekkere) koks en patissiers. Bakspullen\, bakboeken en ingrediënten vind je er ook.\nBen jij geen bakker\, maar wel een fervent taarteneter? Ook dan ben je hier op de juiste plek. Er zijn volop stands met tongstrelende taartjes. Barista’s maken de lekkerste koffies\, allerlei theesoorten\, maar ook sapjes\, drankjes\, jams enzo.\nMaar ben je gewoon dol op shoppen en wil je een leuk dagje uit beleven? Er zijn ook heel veel stands met originele hebbedingen\, serviesgoed\, woonspullen\, brocante\, mooie sieraden. Alles door ons persoonlijk geselecteerd en goedgekeurd. En vergeet vooral niet de gezellige terrasjes en fijne muziek!
URL:https://www.bakkenmetniels.nl/agenda/bakken-met-niels-op-het-festival-der-zoete-verleidingen-2/
LOCATION:Festival der Zoete Verleidingen – Almere\, Kemphaanpad 4\, Almere\, 1358 AC
CATEGORIES:Festival
END:VEVENT
BEGIN:VEVENT
DTSTART;TZID=Europe/Amsterdam:20190406T100000
DTEND;TZID=Europe/Amsterdam:20190406T163000
DTSTAMP:20260421T134636
CREATED:20190318T101045Z
LAST-MODIFIED:20190318T114224Z
UID:6258-1554544800-1554568200@www.bakkenmetniels.nl
SUMMARY:Kom in de Kas 2019
DESCRIPTION:Kom mee met Bakker Niels de kas in om de mooiste en meest verse aardbeien te plukken. Vervolgens zorgt Bakker Niels voor de allerlekkerste\, ovenverse aardbeienrondo’s!
URL:https://www.bakkenmetniels.nl/agenda/kom-in-de-kas-2019/
LOCATION:Kalter aardbeien\, Tuindersweg 2\, Ijsselmuiden
CATEGORIES:Opendag
END:VEVENT
BEGIN:VEVENT
DTSTART;VALUE=DATE:20190330
DTEND;VALUE=DATE:20190401
DTSTAMP:20260421T134636
CREATED:20190318T100203Z
LAST-MODIFIED:20190318T100321Z
UID:6255-1553904000-1554076799@www.bakkenmetniels.nl
SUMMARY:Bakker Niels op de MjamTaart Cake & Bake Experience
DESCRIPTION:De Cake & Bake Experience is de zoetste beurs en een beleving op het gebied van bakken\, taart decoratie\, patisserie\, chocolade\, cupcakes en alles wat er bij komt kijken. De nieuwste trends\, de moeilijkste technieken\, je ziet en beleeft het allemaal. Doe mee aan -of bewonder- de bekende Holland Sugar Art Show wedstrijd en volg een (aanschuif)workshop of demo. Hoe doen ze dat toch? Lactose- en glutenvrij bakken\, taart vervoeren\, chocolade tempereren? Allemaal vragen waarop jij graag het antwoord wilt weten. Tijdens de Cake & Bake Experience 2019 kun jij je laten informeren en direct de producten kopen die je hiervoor nodig hebt! \nUiteraard is Bakker Niels ook weer van de partij! \nwww.mjamtaartexperience.nl
URL:https://www.bakkenmetniels.nl/agenda/bakker-niels-op-de-mjamtaart-cake-bake-experience/
LOCATION:De Broodfabriek\, Volmerlaan 12\, Rijswijk\, 2288 GD\, Nederland
CATEGORIES:Beurs
END:VEVENT
BEGIN:VEVENT
DTSTART;VALUE=DATE:20190330
DTEND;VALUE=DATE:20190401
DTSTAMP:20260421T134636
CREATED:20190117T084407Z
LAST-MODIFIED:20190117T085318Z
UID:6076-1553904000-1554076799@www.bakkenmetniels.nl
SUMMARY:Bakken met Niels op de MjamTaart Cake & Bake Experience
DESCRIPTION:De MjamTaart Cake & Bake Experience is de zoetste beurs en een beleving op het gebied van bakken\, taart decoratie\, patisserie\, chocolade\, cupcakes en alles wat er bij komt kijken. De nieuwste trends\, de moeilijkste technieken\, je ziet en beleeft het allemaal tijdens de MjamTaart Cake & Bake Experience. En uiteraard is bakker Niels ook van de partij! \nKoop nu alvast je kaarten en vind alle info op mjamtaartexperience.nl!
URL:https://www.bakkenmetniels.nl/agenda/bakken-met-niels-op-de-mjamtaart-cake-bake-experience/
LOCATION:De Broodfabriek\, Volmerlaan 12\, Rijswijk\, 2288 GD\, Nederland
CATEGORIES:Beurs
END:VEVENT
BEGIN:VEVENT
DTSTART;TZID=Europe/Amsterdam:20190323T100000
DTEND;TZID=Europe/Amsterdam:20190323T170000
DTSTAMP:20260421T134636
CREATED:20190318T095744Z
LAST-MODIFIED:20190318T095744Z
UID:6252-1553335200-1553360400@www.bakkenmetniels.nl
SUMMARY:Doorlopende demo bij Landwinkel De Zandroos
DESCRIPTION:Bakker Niels is de hele dag aanwezig voor een doorlopende bak demonstratie.
URL:https://www.bakkenmetniels.nl/agenda/doorlopende-demo-bij-landwinkel-de-zandroos/
LOCATION:Landwinkel De Zandroos\, van Heemstraweg 48 B\, Afferden\, 6654 KE
CATEGORIES:Winkel/Bedrijf
END:VEVENT
BEGIN:VEVENT
DTSTART;VALUE=DATE:20190202
DTEND;VALUE=DATE:20190203
DTSTAMP:20260421T134636
CREATED:20190117T085801Z
LAST-MODIFIED:20190117T085801Z
UID:6085-1549065600-1549151999@www.bakkenmetniels.nl
SUMMARY:Bakken met Niels bij Welkoop Blerick
DESCRIPTION:Niels komt langs bij Welkoop Blerick voor een doorlopende demo – proeverij. De hele dag proeven\, beleven en genieten.
URL:https://www.bakkenmetniels.nl/agenda/bakken-met-niels-bij-welkoop-blerick/
LOCATION:Welkoop Blerick\, Heymansstraat 95\, Blerick\, 5927 NP
CATEGORIES:Winkel/Bedrijf
END:VEVENT
BEGIN:VEVENT
DTSTART;TZID=Europe/Amsterdam:20190116T190000
DTEND;TZID=Europe/Amsterdam:20190116T220000
DTSTAMP:20260421T134636
CREATED:20190104T111602Z
LAST-MODIFIED:20190104T111602Z
UID:6041-1547665200-1547676000@www.bakkenmetniels.nl
SUMMARY:Bakles met Niels bij Welkoop Marwijksoord
DESCRIPTION:Niels komt langs bij Welkoop Marwijksoord\, om u de fijne kneepjes van het vak te leren. Proeven\, beleven en genieten.\nWoensdag 16 januari\, van 19.00 tot 22.00 uur. Aanvang 18.45 uur. \nInschrijving en info via Marwijksoord@welkoop.com en tel: 592-243555
URL:https://www.bakkenmetniels.nl/agenda/bakles-met-niels-bij-welkoop-marwijksoord/
LOCATION:Welkoop Marwijksoord\, Marwijksoord 4a\, Marwijksoord\, 9448 XB
CATEGORIES:Winkel/Bedrijf
END:VEVENT
END:VCALENDAR