BEGIN:VCALENDAR
VERSION:2.0
PRODID:-//Bakken met Niels - ECPv6.15.20//NONSGML v1.0//EN
CALSCALE:GREGORIAN
METHOD:PUBLISH
X-WR-CALNAME:Bakken met Niels
X-ORIGINAL-URL:https://www.bakkenmetniels.nl
X-WR-CALDESC:Evenementen voor Bakken met Niels
REFRESH-INTERVAL;VALUE=DURATION:PT1H
X-Robots-Tag:noindex
X-PUBLISHED-TTL:PT1H
BEGIN:VTIMEZONE
TZID:Europe/Amsterdam
BEGIN:DAYLIGHT
TZOFFSETFROM:+0100
TZOFFSETTO:+0200
TZNAME:CEST
DTSTART:20160327T010000
END:DAYLIGHT
BEGIN:STANDARD
TZOFFSETFROM:+0200
TZOFFSETTO:+0100
TZNAME:CET
DTSTART:20161030T010000
END:STANDARD
BEGIN:DAYLIGHT
TZOFFSETFROM:+0100
TZOFFSETTO:+0200
TZNAME:CEST
DTSTART:20170326T010000
END:DAYLIGHT
BEGIN:STANDARD
TZOFFSETFROM:+0200
TZOFFSETTO:+0100
TZNAME:CET
DTSTART:20171029T010000
END:STANDARD
BEGIN:DAYLIGHT
TZOFFSETFROM:+0100
TZOFFSETTO:+0200
TZNAME:CEST
DTSTART:20180325T010000
END:DAYLIGHT
BEGIN:STANDARD
TZOFFSETFROM:+0200
TZOFFSETTO:+0100
TZNAME:CET
DTSTART:20181028T010000
END:STANDARD
END:VTIMEZONE
BEGIN:VEVENT
DTSTART;VALUE=DATE:20170415
DTEND;VALUE=DATE:20170416
DTSTAMP:20260420T083519
CREATED:20170407T144610Z
LAST-MODIFIED:20170407T145325Z
UID:2884-1492214400-1492300799@www.bakkenmetniels.nl
SUMMARY:Opendag Landwinkel Pennings
DESCRIPTION:Gezellige opendag bij Landwinkel Pennings ! De Bakkar van bakker Niels zorgt voor heerlijke geur en verse roomboter karamel stroopwafels ! \nVan harte welkom !
URL:https://www.bakkenmetniels.nl/agenda/2884/
LOCATION:Landwinkel Pennings Warmond\, Hellegatspolder 1\, Warmond\, Zuid - Holland\, 2160AX\, Nederland
CATEGORIES:Opendag
END:VEVENT
END:VCALENDAR